BEGIN:VCALENDAR
VERSION:2.0
PRODID:-//CLEMENS Getränketechnik - ECPv6.15.20//NONSGML v1.0//EN
CALSCALE:GREGORIAN
METHOD:PUBLISH
X-WR-CALNAME:CLEMENS Getränketechnik
X-ORIGINAL-URL:https://clemens-gt.com
X-WR-CALDESC:Veranstaltungen für CLEMENS Getränketechnik
REFRESH-INTERVAL;VALUE=DURATION:PT1H
X-Robots-Tag:noindex
X-PUBLISHED-TTL:PT1H
BEGIN:VTIMEZONE
TZID:Europe/Rome
BEGIN:DAYLIGHT
TZOFFSETFROM:+0100
TZOFFSETTO:+0200
TZNAME:CEST
DTSTART:20230326T010000
END:DAYLIGHT
BEGIN:STANDARD
TZOFFSETFROM:+0200
TZOFFSETTO:+0100
TZNAME:CET
DTSTART:20231029T010000
END:STANDARD
BEGIN:DAYLIGHT
TZOFFSETFROM:+0100
TZOFFSETTO:+0200
TZNAME:CEST
DTSTART:20240331T010000
END:DAYLIGHT
BEGIN:STANDARD
TZOFFSETFROM:+0200
TZOFFSETTO:+0100
TZNAME:CET
DTSTART:20241027T010000
END:STANDARD
BEGIN:DAYLIGHT
TZOFFSETFROM:+0100
TZOFFSETTO:+0200
TZNAME:CEST
DTSTART:20250330T010000
END:DAYLIGHT
BEGIN:STANDARD
TZOFFSETFROM:+0200
TZOFFSETTO:+0100
TZNAME:CET
DTSTART:20251026T010000
END:STANDARD
END:VTIMEZONE
BEGIN:VEVENT
DTSTART;TZID=Europe/Rome:20240703T000000
DTEND;TZID=Europe/Rome:20240704T235959
DTSTAMP:20260424T155046
CREATED:20240108T095523Z
LAST-MODIFIED:20240108T095523Z
UID:2342-1719964800-1720137599@clemens-gt.com
SUMMARY:Vitis Live\, Piesport
DESCRIPTION:
URL:https://clemens-gt.com/event/vitis-live-in-piesport-4/
LOCATION:Vitis Live\, Sportplatz\, Piesport\, Deutschland
ATTACH;FMTTYPE=image/jpeg:https://clemens-gt.com/wp-content/uploads/2024/01/Vitis-live-1.jpg
END:VEVENT
END:VCALENDAR