BEGIN:VCALENDAR
VERSION:2.0
PRODID:-//CLEMENS Getr&auml;nketechnik - ECPv6.15.20//NONSGML v1.0//EN
CALSCALE:GREGORIAN
METHOD:PUBLISH
X-WR-CALNAME:CLEMENS Getr&auml;nketechnik
X-ORIGINAL-URL:https://clemens-gt.com
X-WR-CALDESC:Veranstaltungen für CLEMENS Getr&auml;nketechnik
REFRESH-INTERVAL;VALUE=DURATION:PT1H
X-Robots-Tag:noindex
X-PUBLISHED-TTL:PT1H
BEGIN:VTIMEZONE
TZID:UTC
BEGIN:STANDARD
TZOFFSETFROM:+0000
TZOFFSETTO:+0000
TZNAME:UTC
DTSTART:20230101T000000
END:STANDARD
END:VTIMEZONE
BEGIN:VEVENT
DTSTART;TZID=UTC:20241112T000000
DTEND;TZID=UTC:20241115T235959
DTSTAMP:20260422T162813
CREATED:20240926T114900Z
LAST-MODIFIED:20240926T114900Z
UID:2628-1731369600-1731715199@clemens-gt.com
SUMMARY:SIMEI - Italien
DESCRIPTION:Sie finden uns bei unseren Partner: \n\nGAI – Pad. 4 – Stand E02-G09-E12-G19\nENOS –  Pad. 2 Stand B11-D20\nMasPack – Pad. 2 – Stans K21-N30\nLETINA – Pad. 3 – Stand T01-U02
URL:https://clemens-gt.com/event/simei-italien/
LOCATION:Messegelände Mailand\, S.S. del Sempione 28\, Rho (MI)\, 2007\, Italien
END:VEVENT
END:VCALENDAR