BEGIN:VCALENDAR
VERSION:2.0
PRODID:-//CLEMENS Getr&auml;nketechnik - ECPv6.15.20//NONSGML v1.0//EN
CALSCALE:GREGORIAN
METHOD:PUBLISH
X-ORIGINAL-URL:https://clemens-gt.com
X-WR-CALDESC:Veranstaltungen für CLEMENS Getr&auml;nketechnik
REFRESH-INTERVAL;VALUE=DURATION:PT1H
X-Robots-Tag:noindex
X-PUBLISHED-TTL:PT1H
BEGIN:VTIMEZONE
TZID:UTC
BEGIN:STANDARD
TZOFFSETFROM:+0000
TZOFFSETTO:+0000
TZNAME:UTC
DTSTART:20240101T000000
END:STANDARD
END:VTIMEZONE
BEGIN:VEVENT
DTSTART;TZID=UTC:20250129T000000
DTEND;TZID=UTC:20250131T235959
DTSTAMP:20260422T103833
CREATED:20240820T055518Z
LAST-MODIFIED:20240820T055518Z
UID:2597-1738108800-1738367999@clemens-gt.com
SUMMARY:Agrar-Winter-Tage Mainz
DESCRIPTION:
URL:https://clemens-gt.com/event/agrar-winter-tage-mainz/
LOCATION:Messegelände Mainz\, Genfer Allee\, Mainz\, 55129\, Deutschland
END:VEVENT
END:VCALENDAR